BEGIN:VCALENDAR
VERSION:2.0
PRODID:https://familie.altmuehlfranken.de/
X-PUBLISHED-TTL:P1D
BEGIN:VEVENT
UID:69e81eaba3038
DTSTART:20261004T140000Z
SEQUENCE:0
TRANSP:OPAQUE
DTEND:20261004T160000Z
URL:https://familie.altmuehlfranken.de/veranstaltungen/zugvoegel_verbinden_
 welten-737001-12640017/
LOCATION:LBV-Umweltstation Altmühlsee - Muhr a.See
SUMMARY:Zugvögel  verbinden Welten
DTSTAMP:20260422T030443Z
END:VEVENT
END:VCALENDAR