BEGIN:VCALENDAR
VERSION:2.0
PRODID:https://familie.altmuehlfranken.de/
X-PUBLISHED-TTL:P1D
BEGIN:VEVENT
UID:69e7e66250c35
DTSTART:20260930T130000Z
SEQUENCE:0
TRANSP:OPAQUE
DTEND:20260930T150000Z
URL:https://familie.altmuehlfranken.de/veranstaltungen/zugvoegel_verbinden_
 welten-736997-12640013/
LOCATION:LBV-Umweltstation Altmühlsee - Muhr a.See
SUMMARY:Zugvögel  verbinden Welten
DTSTAMP:20260421T230434Z
END:VEVENT
END:VCALENDAR