BEGIN:VCALENDAR
VERSION:2.0
PRODID:https://familie.altmuehlfranken.de/
X-PUBLISHED-TTL:P1D
BEGIN:VEVENT
UID:69e7e91ab5cba
DTSTART:20261017T110000Z
SEQUENCE:0
TRANSP:OPAQUE
DTEND:20261017T150000Z
URL:https://familie.altmuehlfranken.de/veranstaltungen/vorhang_auf_kleine_s
 tars_auf_g-803655-12681407/
LOCATION:Familienstützpunkt Treuchtlingen\, Seniorenzentrum Treuchtlingen\
 , BRK KV Südfranken - Treuchtlingen
SUMMARY:Vorhang auf – kleine Stars auf großer Bühne
DTSTAMP:20260421T231610Z
END:VEVENT
END:VCALENDAR