BEGIN:VCALENDAR
VERSION:2.0
PRODID:https://familie.altmuehlfranken.de/
X-PUBLISHED-TTL:P1D
BEGIN:VEVENT
UID:69e7660852cd6
DTSTART:20260514T050000Z
SEQUENCE:0
TRANSP:OPAQUE
DTEND:20260514T070000Z
URL:https://familie.altmuehlfranken.de/veranstaltungen/vogelstimmenwanderun
 g_am_morge-736981-12639975/
LOCATION:LBV-Umweltstation Altmühlsee - Muhr a.See
SUMMARY:Vogelstimmenwanderung am Morgen
DTSTAMP:20260421T135656Z
END:VEVENT
END:VCALENDAR