BEGIN:VCALENDAR
VERSION:2.0
PRODID:https://familie.altmuehlfranken.de/
X-PUBLISHED-TTL:P1D
BEGIN:VEVENT
UID:69e77f133db4a
DTSTART:20260422T130000Z
SEQUENCE:0
TRANSP:OPAQUE
DTEND:20260422T150000Z
URL:https://familie.altmuehlfranken.de/veranstaltungen/vogelinsel-fuehrung_
 des_lbv-736931/
LOCATION:LBV-Umweltstation Altmühlsee - Muhr a.See
SUMMARY:Vogelinsel-Führung des LBV
DTSTAMP:20260421T154347Z
END:VEVENT
END:VCALENDAR