BEGIN:VCALENDAR
VERSION:2.0
PRODID:https://familie.altmuehlfranken.de/
X-PUBLISHED-TTL:P1D
BEGIN:VEVENT
UID:69e77e7553f2f
DTSTART:20260531T070000Z
SEQUENCE:0
TRANSP:OPAQUE
DTEND:20260531T140000Z
URL:https://familie.altmuehlfranken.de/veranstaltungen/vogelinsel-fest-7370
 35-12640105/
LOCATION:LBV-Umweltstation Altmühlsee - Muhr a.See
SUMMARY:Vogelinsel-Fest
DTSTAMP:20260421T154109Z
END:VEVENT
END:VCALENDAR