BEGIN:VCALENDAR
VERSION:2.0
PRODID:https://familie.altmuehlfranken.de/
X-PUBLISHED-TTL:P1D
BEGIN:VEVENT
UID:69e9f978d4e03
DTSTART:20261004T073000Z
SEQUENCE:0
TRANSP:OPAQUE
DTEND:20261004T140000Z
URL:https://familie.altmuehlfranken.de/veranstaltungen/vogelbeobachtungs-ta
 g_birdwatc-737037-12640107/
LOCATION:LBV-Umweltstation Altmühlsee - Muhr a.See
SUMMARY:Vogelbeobachtungs-Tag (Birdwatch)
DTSTAMP:20260423T125032Z
END:VEVENT
END:VCALENDAR