BEGIN:VCALENDAR
VERSION:2.0
PRODID:https://familie.altmuehlfranken.de/
X-PUBLISHED-TTL:P1D
BEGIN:VEVENT
UID:69e7cf5852097
DTSTART:20260904T130000Z
SEQUENCE:0
TRANSP:OPAQUE
DTEND:20260904T150000Z
URL:https://familie.altmuehlfranken.de/veranstaltungen/treffpunkt_turm-voge
 lkunde_fue-736939-12639913/
LOCATION:LBV-Umweltstation Altmühlsee - Muhr a.See
SUMMARY:Treffpunkt Turm - Vogelkunde für Jedermann
DTSTAMP:20260421T212616Z
END:VEVENT
END:VCALENDAR