BEGIN:VCALENDAR
VERSION:2.0
PRODID:https://familie.altmuehlfranken.de/
X-PUBLISHED-TTL:P1D
BEGIN:VEVENT
UID:69e7b47978d1a
DTSTART:20260730T130000Z
SEQUENCE:0
TRANSP:OPAQUE
DTEND:20260730T150000Z
URL:https://familie.altmuehlfranken.de/veranstaltungen/treffpunkt_turm-voge
 lkunde_fue-736939-12639909/
LOCATION:LBV-Umweltstation Altmühlsee - Muhr a.See
SUMMARY:Treffpunkt Turm - Vogelkunde für Jedermann
DTSTAMP:20260421T193137Z
END:VEVENT
END:VCALENDAR