BEGIN:VCALENDAR
VERSION:2.0
PRODID:https://familie.altmuehlfranken.de/
X-PUBLISHED-TTL:P1D
BEGIN:VEVENT
UID:69e77ececa685
DTSTART:20260602T120000Z
SEQUENCE:0
TRANSP:OPAQUE
DTEND:20260602T140000Z
URL:https://familie.altmuehlfranken.de/veranstaltungen/treffpunkt_turm-voge
 lkunde_fue-736935-12639903/
LOCATION:LBV-Umweltstation Altmühlsee - Muhr a.See
SUMMARY:Treffpunkt Turm - Vogelkunde für Jedermann
DTSTAMP:20260421T154238Z
END:VEVENT
END:VCALENDAR