BEGIN:VCALENDAR
VERSION:2.0
PRODID:https://familie.altmuehlfranken.de/
X-PUBLISHED-TTL:P1D
BEGIN:VEVENT
UID:69e7d194217a4
DTSTART:20260729T180000Z
SEQUENCE:0
TRANSP:OPAQUE
DTEND:20260729T200000Z
URL:https://familie.altmuehlfranken.de/veranstaltungen/schwester_mond_medit
 ative_voll-737025/
LOCATION:MS Altmühlsee - Gunzenhausen
SUMMARY:Schwester Mond –  Meditative Vollmond-Schifffahrt
DTSTAMP:20260421T213548Z
END:VEVENT
END:VCALENDAR