BEGIN:VCALENDAR
VERSION:2.0
PRODID:https://familie.altmuehlfranken.de/
X-PUBLISHED-TTL:P1D
BEGIN:VEVENT
UID:69e7cc9c4a623
DTSTART:20260827T133000Z
SEQUENCE:0
TRANSP:OPAQUE
DTEND:20260827T141500Z
URL:https://familie.altmuehlfranken.de/veranstaltungen/schnupperstunde_kind
 er-yoga_mi-806545-12681781/
LOCATION:Familienstützpunkt Weißenburg\, BRK KV Südfranken - Weißenburg
 \, BRK KV Südfranken
SUMMARY:Schnupperstunde: Kinder-Yoga mit Herz\, Bewegung und Achtsamkeit- K
 inder von 7-12 Jahren
DTSTAMP:20260421T211436Z
END:VEVENT
END:VCALENDAR