BEGIN:VCALENDAR
VERSION:2.0
PRODID:https://familie.altmuehlfranken.de/
X-PUBLISHED-TTL:P1D
BEGIN:VEVENT
UID:69e77e4b5f445
DTSTART:20261110T180000Z
SEQUENCE:0
TRANSP:OPAQUE
DTEND:20261110T200000Z
URL:https://familie.altmuehlfranken.de/veranstaltungen/praesenzveranstaltun
 g_ready_se-705775/
LOCATION:Familienstützpunkt Weißenburg\, BRK KV Südfranken - Weißenburg
 \, BRK KV Südfranken
SUMMARY:Präsenzveranstaltung: Ready\, Set\, Papa! Gut vorbereitet ins Vate
 rsein
DESCRIPTION:Veranstaltungsreihe \"Fit für Familie\"
DTSTAMP:20260421T154027Z
END:VEVENT
END:VCALENDAR