BEGIN:VCALENDAR
VERSION:2.0
PRODID:https://familie.altmuehlfranken.de/
X-PUBLISHED-TTL:P1D
BEGIN:VEVENT
UID:69e7667f7e015
DTSTART:20260924T080000Z
SEQUENCE:0
TRANSP:OPAQUE
DTEND:20260924T100000Z
URL:https://familie.altmuehlfranken.de/veranstaltungen/praesenzveranstaltun
 g_fruehstu-705765-12619349/
LOCATION:Familienstützpunkt Weißenburg\, BRK KV Südfranken - Weißenburg
 \, BRK KV Südfranken
SUMMARY:Präsenzveranstaltung: Frühstückstreff für Eltern - begleitet vo
 n Anfang an
DESCRIPTION:Veranstaltungsreihe \"Fit für Familie\"
DTSTAMP:20260421T135855Z
END:VEVENT
END:VCALENDAR