BEGIN:VCALENDAR
VERSION:2.0
PRODID:https://familie.altmuehlfranken.de/
X-PUBLISHED-TTL:P1D
BEGIN:VEVENT
UID:69e76646a834a
DTSTART:20260429T080000Z
SEQUENCE:0
TRANSP:OPAQUE
DTEND:20260429T100000Z
URL:https://familie.altmuehlfranken.de/veranstaltungen/praesenzveranstaltun
 g_fruehstu-705745-12619329/
LOCATION:Café Kleiderkiste - Gunzenhausen
SUMMARY:Präsenzveranstaltung: Frühstückstreff für Eltern - begleitet vo
 n Anfang an
DESCRIPTION:Veranstaltungsreihe \"Fit für Familie\"
DTSTAMP:20260421T135758Z
END:VEVENT
END:VCALENDAR