BEGIN:VCALENDAR
VERSION:2.0
PRODID:https://familie.altmuehlfranken.de/
X-PUBLISHED-TTL:P1D
BEGIN:VEVENT
UID:69e8983c31d44
DTSTART:20261119T183000Z
SEQUENCE:0
TRANSP:OPAQUE
DTEND:20261119T200000Z
URL:https://familie.altmuehlfranken.de/veranstaltungen/online-vortrag_trotz
 _wutmeine-705777-12619365/
LOCATION:- Veranstaltung ohne festen Ort - Weißenburg i.Bay.
SUMMARY:ONLINE-Vortrag: Trotz\, Wut\,...Meine & Deine Gefühle
DESCRIPTION:Veranstaltungsreihe \"Fit für Familie\"
DTSTAMP:20260422T114324Z
END:VEVENT
END:VCALENDAR