BEGIN:VCALENDAR
VERSION:2.0
PRODID:https://familie.altmuehlfranken.de/
X-PUBLISHED-TTL:P1D
BEGIN:VEVENT
UID:69e76637638b3
DTSTART:20260506T170000Z
SEQUENCE:0
TRANSP:OPAQUE
DTEND:20260506T193000Z
URL:https://familie.altmuehlfranken.de/veranstaltungen/online-vortrag_menta
 l_load_fam-705747-12619331/
LOCATION:- Veranstaltung ohne festen Ort - Weißenburg i.Bay.
SUMMARY:ONLINE-Vortrag: Mental Load: Familie als Team. Den Alltag gemeinsam
  meistern ohne durchzudrehen
DESCRIPTION:Veranstaltungsreihe \"Fit für Familie\"
DTSTAMP:20260421T135743Z
END:VEVENT
END:VCALENDAR