BEGIN:VCALENDAR
VERSION:2.0
PRODID:https://familie.altmuehlfranken.de/
X-PUBLISHED-TTL:P1D
BEGIN:VEVENT
UID:69e77e7655f71
DTSTART:20261028T083000Z
SEQUENCE:0
TRANSP:OPAQUE
DTEND:20261028T100000Z
URL:https://familie.altmuehlfranken.de/veranstaltungen/online-vortrag_kinde
 r-_und_inf-705773/
LOCATION:- Veranstaltung ohne festen Ort - Weißenburg i.Bay.
SUMMARY:ONLINE-Vortrag: Kinder- und Infektionskrankheiten: vorbeugen\, erke
 nnen & behandeln
DESCRIPTION:Veranstaltungsreihe \"Fit für Familie\"
DTSTAMP:20260421T154110Z
END:VEVENT
END:VCALENDAR