BEGIN:VCALENDAR
VERSION:2.0
PRODID:https://familie.altmuehlfranken.de/
X-PUBLISHED-TTL:P1D
BEGIN:VEVENT
UID:69e76636643b6
DTSTART:20260517T170000Z
SEQUENCE:0
TRANSP:OPAQUE
DTEND:20260517T190000Z
URL:https://familie.altmuehlfranken.de/veranstaltungen/nachtigall_trifft_bi
 ber-736985-12639991/
LOCATION:LBV-Umweltstation Altmühlsee - Muhr a.See
SUMMARY:Nachtigall trifft Biber
DTSTAMP:20260421T135742Z
END:VEVENT
END:VCALENDAR