BEGIN:VCALENDAR
VERSION:2.0
PRODID:https://familie.altmuehlfranken.de/
X-PUBLISHED-TTL:P1D
BEGIN:VEVENT
UID:69e79a9072d24
DTSTART:20260710T141500Z
SEQUENCE:0
TRANSP:OPAQUE
DTEND:20260710T151500Z
URL:https://familie.altmuehlfranken.de/veranstaltungen/leseclub_2_am_freita
 g-fuer_kin-618713-12562281/
LOCATION:vhs Weißenburg und Umgebung e.V. - Weißenburg
SUMMARY:Leseclub 2 am Freitag - für Kinder von 10 bis 12 Jahren
DTSTAMP:20260421T174104Z
END:VEVENT
END:VCALENDAR