BEGIN:VCALENDAR
VERSION:2.0
PRODID:https://familie.altmuehlfranken.de/
X-PUBLISHED-TTL:P1D
BEGIN:VEVENT
UID:69e79a5ae10d3
DTSTART:20260626T141500Z
SEQUENCE:0
TRANSP:OPAQUE
DTEND:20260626T151500Z
URL:https://familie.altmuehlfranken.de/veranstaltungen/leseclub_2_am_freita
 g-fuer_kin-618713-12562277/
LOCATION:vhs Weißenburg und Umgebung e.V. - Weißenburg
SUMMARY:Leseclub 2 am Freitag - für Kinder von 10 bis 12 Jahren
DTSTAMP:20260421T174010Z
END:VEVENT
END:VCALENDAR