BEGIN:VCALENDAR
VERSION:2.0
PRODID:https://familie.altmuehlfranken.de/
X-PUBLISHED-TTL:P1D
BEGIN:VEVENT
UID:69e77f5c9e4b7
DTSTART:20260605T141500Z
SEQUENCE:0
TRANSP:OPAQUE
DTEND:20260605T151500Z
URL:https://familie.altmuehlfranken.de/veranstaltungen/leseclub_2_am_freita
 g-fuer_kin-618713-12562271/
LOCATION:vhs Weißenburg und Umgebung e.V. - Weißenburg
SUMMARY:Leseclub 2 am Freitag - für Kinder von 10 bis 12 Jahren
DTSTAMP:20260421T154500Z
END:VEVENT
END:VCALENDAR