BEGIN:VCALENDAR
VERSION:2.0
PRODID:https://familie.altmuehlfranken.de/
X-PUBLISHED-TTL:P1D
BEGIN:VEVENT
UID:69e7669ebc071
DTSTART:20260515T141500Z
SEQUENCE:0
TRANSP:OPAQUE
DTEND:20260515T151500Z
URL:https://familie.altmuehlfranken.de/veranstaltungen/leseclub_2_am_freita
 g-fuer_kin-618713-12562265/
LOCATION:vhs Weißenburg und Umgebung e.V. - Weißenburg
SUMMARY:Leseclub 2 am Freitag - für Kinder von 10 bis 12 Jahren
DTSTAMP:20260421T135926Z
END:VEVENT
END:VCALENDAR