BEGIN:VCALENDAR
VERSION:2.0
PRODID:https://familie.altmuehlfranken.de/
X-PUBLISHED-TTL:P1D
BEGIN:VEVENT
UID:69eb954d8cd0e
DTSTART:20260424T130000Z
SEQUENCE:0
TRANSP:OPAQUE
DTEND:20260424T140000Z
URL:https://familie.altmuehlfranken.de/veranstaltungen/leseclub_1_am_freita
 g-fuer_kin-618711-12562189/
LOCATION:vhs Weißenburg und Umgebung e.V. - Weißenburg
SUMMARY:Leseclub 1 am Freitag -  für Kinder von 6 bis 9 Jahren
DTSTAMP:20260424T180741Z
END:VEVENT
END:VCALENDAR