BEGIN:VCALENDAR
VERSION:2.0
PRODID:https://familie.altmuehlfranken.de/
X-PUBLISHED-TTL:P1D
BEGIN:VEVENT
UID:69ea366bc404a
DTSTART:20260423T080000Z
SEQUENCE:0
TRANSP:OPAQUE
DTEND:20260423T100000Z
URL:https://familie.altmuehlfranken.de/veranstaltungen/krabbelgruppe-famili
 enstuetzpu-524335-12576319/
LOCATION:Familienstützpunkt Treuchtlingen\, Seniorenzentrum Treuchtlingen\
 , BRK KV Südfranken - Treuchtlingen
SUMMARY:Krabbelgruppe - Familienstützpunkt Treuchtlingen
DESCRIPTION:Gemeinsam mit den Kindern spielen und Spaß haben
DTSTAMP:20260423T171035Z
END:VEVENT
END:VCALENDAR