BEGIN:VCALENDAR
VERSION:2.0
PRODID:https://familie.altmuehlfranken.de/
X-PUBLISHED-TTL:P1D
BEGIN:VEVENT
UID:69e501bb0b6a5
DTSTART:20260422T080000Z
SEQUENCE:0
TRANSP:OPAQUE
DTEND:20260422T100000Z
URL:https://familie.altmuehlfranken.de/veranstaltungen/krabbelgruppe-famili
 enstuetzpu-406683-12616979/
LOCATION:Familienstützpunkt Weißenburg\, BRK KV Südfranken - Weißenburg
 \, BRK KV Südfranken
SUMMARY:Krabbelgruppe - Familienstützpunkt Weißenburg
DESCRIPTION:Gemeinsam mit den Kindern spielen und Spaß haben
DTSTAMP:20260419T182427Z
END:VEVENT
END:VCALENDAR