BEGIN:VCALENDAR
VERSION:2.0
PRODID:https://familie.altmuehlfranken.de/
X-PUBLISHED-TTL:P1D
BEGIN:VEVENT
UID:69e8e22e65b19
DTSTART:20260422T130000Z
SEQUENCE:0
TRANSP:OPAQUE
DTEND:20260422T140000Z
URL:https://familie.altmuehlfranken.de/veranstaltungen/komm_zum_mitmachlese
 spass_in_d-764471-12662103/
LOCATION:Familienstützpunkt Treuchtlingen\, Seniorenzentrum Treuchtlingen\
 , BRK KV Südfranken - Treuchtlingen
SUMMARY:Komm zum MitmachLeseSpaß in den Familienstützpunkt Treuchtlingen 
 für Kinder von 5-8
DESCRIPTION:Geschichten hören\, selber lesen\, mitmachen!
DTSTAMP:20260422T165854Z
END:VEVENT
END:VCALENDAR