BEGIN:VCALENDAR
VERSION:2.0
PRODID:https://familie.altmuehlfranken.de/
X-PUBLISHED-TTL:P1D
BEGIN:VEVENT
UID:69e77eaa38bf9
DTSTART:20260601T080000Z
SEQUENCE:0
TRANSP:OPAQUE
DTEND:20260601T120000Z
URL:https://familie.altmuehlfranken.de/veranstaltungen/kindernaehkurs_flatt
 erhose_fue-753005-12656121/
LOCATION:vhs Weißenburg und Umgebung e.V. - Weißenburg
SUMMARY:Kindernähkurs \"Flatterhose\" für Kinder mit etwas Näherfahrung
DTSTAMP:20260421T154202Z
END:VEVENT
END:VCALENDAR