BEGIN:VCALENDAR
VERSION:2.0
PRODID:https://familie.altmuehlfranken.de/
X-PUBLISHED-TTL:P1D
BEGIN:VEVENT
UID:69e7ce4f13771
DTSTART:20260803T120000Z
SEQUENCE:0
TRANSP:OPAQUE
DTEND:20260803T133000Z
URL:https://familie.altmuehlfranken.de/veranstaltungen/kinderfuehrungen_auf
 _der_vogel-736951/
LOCATION:LBV-Umweltstation Altmühlsee - Muhr a.See
SUMMARY:Kinderführungen auf der Vogelinsel - für Kinder ab 6 Jahren
DTSTAMP:20260421T212151Z
END:VEVENT
END:VCALENDAR