BEGIN:VCALENDAR
VERSION:2.0
PRODID:https://familie.altmuehlfranken.de/
X-PUBLISHED-TTL:P1D
BEGIN:VEVENT
UID:69ea01f5da655
DTSTART:20260907T120000Z
SEQUENCE:0
TRANSP:OPAQUE
DTEND:20260907T133000Z
URL:https://familie.altmuehlfranken.de/veranstaltungen/kinderfuehrungen_auf
 _der_vogel-736951-12639945/
LOCATION:LBV-Umweltstation Altmühlsee - Muhr a.See
SUMMARY:Kinderführungen auf der Vogelinsel - für Kinder ab 6 Jahren
DTSTAMP:20260423T132645Z
END:VEVENT
END:VCALENDAR