BEGIN:VCALENDAR
VERSION:2.0
PRODID:https://familie.altmuehlfranken.de/
X-PUBLISHED-TTL:P1D
BEGIN:VEVENT
UID:69e7d1a9c23d3
DTSTART:20260831T120000Z
SEQUENCE:0
TRANSP:OPAQUE
DTEND:20260831T133000Z
URL:https://familie.altmuehlfranken.de/veranstaltungen/kinderfuehrungen_auf
 _der_vogel-736951-12639943/
LOCATION:LBV-Umweltstation Altmühlsee - Muhr a.See
SUMMARY:Kinderführungen auf der Vogelinsel - für Kinder ab 6 Jahren
DTSTAMP:20260421T213609Z
END:VEVENT
END:VCALENDAR