BEGIN:VCALENDAR
VERSION:2.0
PRODID:https://familie.altmuehlfranken.de/
X-PUBLISHED-TTL:P1D
BEGIN:VEVENT
UID:69e7b478761d5
DTSTART:20260810T120000Z
SEQUENCE:0
TRANSP:OPAQUE
DTEND:20260810T133000Z
URL:https://familie.altmuehlfranken.de/veranstaltungen/kinderfuehrungen_auf
 _der_vogel-736951-12639937/
LOCATION:LBV-Umweltstation Altmühlsee - Muhr a.See
SUMMARY:Kinderführungen auf der Vogelinsel - für Kinder ab 6 Jahren
DTSTAMP:20260421T193136Z
END:VEVENT
END:VCALENDAR