BEGIN:VCALENDAR
VERSION:2.0
PRODID:https://familie.altmuehlfranken.de/
X-PUBLISHED-TTL:P1D
BEGIN:VEVENT
UID:69e79a2f412ba
DTSTART:20260719T073000Z
SEQUENCE:0
TRANSP:OPAQUE
DTEND:20260719T093000Z
URL:https://familie.altmuehlfranken.de/veranstaltungen/fuehrung_im_natur-er
 lebnis-gar-736973-12639967/
LOCATION:LBV-Umweltstation Altmühlsee - Muhr a.See
SUMMARY:Führung im Natur-Erlebnis-Garten
DTSTAMP:20260421T173927Z
END:VEVENT
END:VCALENDAR