BEGIN:VCALENDAR
VERSION:2.0
PRODID:https://familie.altmuehlfranken.de/
X-PUBLISHED-TTL:P1D
BEGIN:VEVENT
UID:69e79a0a8e7c3
DTSTART:20260613T150000Z
SEQUENCE:0
TRANSP:OPAQUE
DTEND:20260613T170000Z
URL:https://familie.altmuehlfranken.de/veranstaltungen/fuehrung_im_natur-er
 lebnis-gar-736971-12639965/
LOCATION:LBV-Umweltstation Altmühlsee - Muhr a.See
SUMMARY:Führung im Natur-Erlebnis-Garten
DTSTAMP:20260421T173850Z
END:VEVENT
END:VCALENDAR