BEGIN:VCALENDAR
VERSION:2.0
PRODID:https://familie.altmuehlfranken.de/
X-PUBLISHED-TTL:P1D
BEGIN:VEVENT
UID:69e7667ef2e4f
DTSTART:20260509T130000Z
SEQUENCE:0
TRANSP:OPAQUE
DTEND:20260509T150000Z
URL:https://familie.altmuehlfranken.de/veranstaltungen/fuehrung_im_natur-er
 lebnis-gar-736969-12639963/
LOCATION:LBV-Umweltstation Altmühlsee - Muhr a.See
SUMMARY:Führung im Natur-Erlebnis-Garten
DTSTAMP:20260421T135855Z
END:VEVENT
END:VCALENDAR