BEGIN:VCALENDAR
VERSION:2.0
PRODID:https://familie.altmuehlfranken.de/
X-PUBLISHED-TTL:P1D
BEGIN:VEVENT
UID:69e77ee913e21
DTSTART:20260424T140000Z
SEQUENCE:0
TRANSP:OPAQUE
DTEND:20260424T160000Z
URL:https://familie.altmuehlfranken.de/veranstaltungen/fuehrung_im_natur-er
 lebnis-gar-736967/
LOCATION:LBV-Umweltstation Altmühlsee - Muhr a.See
SUMMARY:Führung im Natur-Erlebnis-Garten
DTSTAMP:20260421T154305Z
END:VEVENT
END:VCALENDAR