BEGIN:VCALENDAR
VERSION:2.0
PRODID:https://familie.altmuehlfranken.de/
X-PUBLISHED-TTL:P1D
BEGIN:VEVENT
UID:69e7cee57f0f3
DTSTART:20260803T173000Z
SEQUENCE:0
TRANSP:OPAQUE
DTEND:20260803T193000Z
URL:https://familie.altmuehlfranken.de/veranstaltungen/fledermaus_trifft_bi
 ber-736989/
LOCATION:LBV-Umweltstation Altmühlsee - Muhr a.See
SUMMARY:Fledermaus trifft Biber
DTSTAMP:20260421T212421Z
END:VEVENT
END:VCALENDAR