BEGIN:VCALENDAR
VERSION:2.0
PRODID:https://familie.altmuehlfranken.de/
X-PUBLISHED-TTL:P1D
BEGIN:VEVENT
UID:69e7cca0ee61e
DTSTART:20260817T173000Z
SEQUENCE:0
TRANSP:OPAQUE
DTEND:20260817T193000Z
URL:https://familie.altmuehlfranken.de/veranstaltungen/fledermaus_trifft_bi
 ber-736989-12640003/
LOCATION:LBV-Umweltstation Altmühlsee - Muhr a.See
SUMMARY:Fledermaus trifft Biber
DTSTAMP:20260421T211440Z
END:VEVENT
END:VCALENDAR