BEGIN:VCALENDAR
VERSION:2.0
PRODID:https://familie.altmuehlfranken.de/
X-PUBLISHED-TTL:P1D
BEGIN:VEVENT
UID:69e7bb28bced8
DTSTART:20260714T183000Z
SEQUENCE:0
TRANSP:OPAQUE
DTEND:20260714T203000Z
URL:https://familie.altmuehlfranken.de/veranstaltungen/fledermaeuse_beim_au
 sflug-737033/
LOCATION:Burgstallwald\, Parkplatz Waldschänke - Gunzenhausen
SUMMARY:Fledermäuse beim Ausflug
DTSTAMP:20260421T200008Z
END:VEVENT
END:VCALENDAR