BEGIN:VCALENDAR
VERSION:2.0
PRODID:https://familie.altmuehlfranken.de/
X-PUBLISHED-TTL:P1D
BEGIN:VEVENT
UID:69e7cf9c8acb3
DTSTART:20260830T183000Z
SEQUENCE:0
TRANSP:OPAQUE
DTEND:20260830T200000Z
URL:https://familie.altmuehlfranken.de/veranstaltungen/fledermaeuse_an_bord
 _naechtlic-737009-12640025/
LOCATION:MS Altmühlsee - Gunzenhausen
SUMMARY:Fledermäuse an Bord – nächtliche Schiffstour auf dem Altmühlse
 e
DTSTAMP:20260421T212724Z
END:VEVENT
END:VCALENDAR