BEGIN:VCALENDAR
VERSION:2.0
PRODID:https://familie.altmuehlfranken.de/
X-PUBLISHED-TTL:P1D
BEGIN:VEVENT
UID:69e7e8598e89a
DTSTART;VALUE=DATE:20261115
SEQUENCE:0
TRANSP:OPAQUE
DTEND;VALUE=DATE:20261115
URL:https://familie.altmuehlfranken.de/veranstaltungen/familienkreativtag-7
 15219-12624523/
LOCATION:vhs Weißenburg und Umgebung e.V. - Weißenburg
SUMMARY:Familienkreativtag
X-MICROSOFT-CDO-ALLDAYEVENT:TRUE
DTSTAMP:20260421T231257Z
END:VEVENT
END:VCALENDAR