BEGIN:VCALENDAR
VERSION:2.0
PRODID:https://familie.altmuehlfranken.de/
X-PUBLISHED-TTL:P1D
BEGIN:VEVENT
UID:69e76608eda1f
DTSTART:20261015T170000Z
SEQUENCE:0
TRANSP:OPAQUE
DTEND:20261015T194500Z
URL:https://familie.altmuehlfranken.de/veranstaltungen/erste-hilfe_kurs_bei
 _kindernot-705767-12619351/
LOCATION:Landratsamt Weißenburg-Gunzenhausen - Weißenburg i. Bay.
SUMMARY:Erste-Hilfe Kurs bei Kindernotfällen (2-teiliger Kurs)
DESCRIPTION:Veranstaltungsreihe \"Fit für Familie\"
DTSTAMP:20260421T135656Z
END:VEVENT
END:VCALENDAR