BEGIN:VCALENDAR
VERSION:2.0
PRODID:https://familie.altmuehlfranken.de/
X-PUBLISHED-TTL:P1D
BEGIN:VEVENT
UID:69e77eee9ab5e
DTSTART:20260526T163000Z
SEQUENCE:0
TRANSP:OPAQUE
DTEND:20260526T183000Z
URL:https://familie.altmuehlfranken.de/veranstaltungen/auf_der_suche_nach_d
 em_biber-736987-12639995/
LOCATION:LBV-Umweltstation Altmühlsee - Muhr a.See
SUMMARY:Auf der Suche nach dem Biber
DTSTAMP:20260421T154310Z
END:VEVENT
END:VCALENDAR