BEGIN:VCALENDAR
VERSION:2.0
PRODID:https://familie.altmuehlfranken.de/
X-PUBLISHED-TTL:P1D
BEGIN:VEVENT
UID:69e7d083767aa
DTSTART:20260902T060000Z
SEQUENCE:0
TRANSP:OPAQUE
DTEND:20260902T080000Z
URL:https://familie.altmuehlfranken.de/veranstaltungen/adlerfuehrung_am_alt
 muehlsee-736991-12640005/
LOCATION:LBV-Umweltstation Altmühlsee - Muhr a.See
SUMMARY:Adlerführung  am Altmühlsee
DTSTAMP:20260421T213115Z
END:VEVENT
END:VCALENDAR